BEGIN:VCALENDAR
VERSION:2.0
PRODID:-//Bonanno Concepts - ECPv6.15.20//NONSGML v1.0//EN
CALSCALE:GREGORIAN
METHOD:PUBLISH
X-ORIGINAL-URL:https://www.bonannoconcepts.com
X-WR-CALDESC:Events for Bonanno Concepts
REFRESH-INTERVAL;VALUE=DURATION:PT1H
X-Robots-Tag:noindex
X-PUBLISHED-TTL:PT1H
BEGIN:VTIMEZONE
TZID:America/Denver
BEGIN:DAYLIGHT
TZOFFSETFROM:-0700
TZOFFSETTO:-0600
TZNAME:MDT
DTSTART:20230312T090000
END:DAYLIGHT
BEGIN:STANDARD
TZOFFSETFROM:-0600
TZOFFSETTO:-0700
TZNAME:MST
DTSTART:20231105T080000
END:STANDARD
BEGIN:DAYLIGHT
TZOFFSETFROM:-0700
TZOFFSETTO:-0600
TZNAME:MDT
DTSTART:20240310T090000
END:DAYLIGHT
BEGIN:STANDARD
TZOFFSETFROM:-0600
TZOFFSETTO:-0700
TZNAME:MST
DTSTART:20241103T080000
END:STANDARD
BEGIN:DAYLIGHT
TZOFFSETFROM:-0700
TZOFFSETTO:-0600
TZNAME:MDT
DTSTART:20250309T090000
END:DAYLIGHT
BEGIN:STANDARD
TZOFFSETFROM:-0600
TZOFFSETTO:-0700
TZNAME:MST
DTSTART:20251102T080000
END:STANDARD
END:VTIMEZONE
BEGIN:VEVENT
DTSTART;TZID=America/Denver:20240701T160000
DTEND;TZID=America/Denver:20240701T210000
DTSTAMP:20260422T114059
CREATED:20240723T202451Z
LAST-MODIFIED:20241017T221411Z
UID:10006552-1719849600-1719867600@www.bonannoconcepts.com
SUMMARY:Bubbles on the Patio
DESCRIPTION:Every Monday\, enjoy HALF OFF select bottles of bubbles from 4pm-9pm only on the patio! Featured selection:\n\nBrut Prosecco\, Veneto NV – 28Brut Rose\, Trentino 2016 – 28Pet Nat\, Abruzzo 2021 – 28Lambrusco\, Emilia Romagna NV – 28Moscato D’Asti\, Piemonte 2021 – 32\n\nMake your reservation HERE! P.S. Happy Hour is from 3-5pm (Mon-Fri) so come early to enjoy all of the great deals we’re offering!
URL:https://www.bonannoconcepts.com/event/bubbles-on-the-patio-june24-2/2024-07-01/
LOCATION:Osteria Marco\, 1453 Larimer St\, Denver\, CO\, 80202\, United States
CATEGORIES:Osteria Marco
ATTACH;FMTTYPE=image/png:https://www.bonannoconcepts.com/wp-content/uploads/2024/06/Monday-Bubbles-on-the-Patio-Osteria-Marco-Featured.png
END:VEVENT
BEGIN:VEVENT
DTSTART;TZID=America/Denver:20240707T160000
DTEND;TZID=America/Denver:20240707T210000
DTSTAMP:20260422T114059
CREATED:20240607T182631Z
LAST-MODIFIED:20240607T182705Z
UID:10002376-1720368000-1720386000@www.bonannoconcepts.com
SUMMARY:Sunday Pig Dinner
DESCRIPTION:Every Sunday\, Osteria Marco is offering a three-course Pig Dinner! Give us a call on Saturday night to find out what we’re serving up on Sunday. Bring your family and friends and come pig out! Make your reservation HERE!
URL:https://www.bonannoconcepts.com/event/sunday-pig-dinner-july7/
LOCATION:Osteria Marco\, 1453 Larimer St\, Denver\, CO\, 80202\, United States
CATEGORIES:Osteria Marco
ATTACH;FMTTYPE=image/png:https://www.bonannoconcepts.com/wp-content/uploads/2024/06/Sunday-Pig-Dinner-Osteria-Marco.png
END:VEVENT
BEGIN:VEVENT
DTSTART;TZID=America/Denver:20240708T160000
DTEND;TZID=America/Denver:20240708T210000
DTSTAMP:20260422T114059
CREATED:20240723T202451Z
LAST-MODIFIED:20241017T221411Z
UID:10006551-1720454400-1720472400@www.bonannoconcepts.com
SUMMARY:Bubbles on the Patio
DESCRIPTION:Every Monday\, enjoy HALF OFF select bottles of bubbles from 4pm-9pm only on the patio! Featured selection:\n\nBrut Prosecco\, Veneto NV – 28Brut Rose\, Trentino 2016 – 28Pet Nat\, Abruzzo 2021 – 28Lambrusco\, Emilia Romagna NV – 28Moscato D’Asti\, Piemonte 2021 – 32\n\nMake your reservation HERE! P.S. Happy Hour is from 3-5pm (Mon-Fri) so come early to enjoy all of the great deals we’re offering!
URL:https://www.bonannoconcepts.com/event/bubbles-on-the-patio-june24-2/2024-07-08/
LOCATION:Osteria Marco\, 1453 Larimer St\, Denver\, CO\, 80202\, United States
CATEGORIES:Osteria Marco
ATTACH;FMTTYPE=image/png:https://www.bonannoconcepts.com/wp-content/uploads/2024/06/Monday-Bubbles-on-the-Patio-Osteria-Marco-Featured.png
END:VEVENT
BEGIN:VEVENT
DTSTART;TZID=America/Denver:20240715T160000
DTEND;TZID=America/Denver:20240715T210000
DTSTAMP:20260422T114059
CREATED:20240723T202451Z
LAST-MODIFIED:20241017T221411Z
UID:10006553-1721059200-1721077200@www.bonannoconcepts.com
SUMMARY:Bubbles on the Patio
DESCRIPTION:Every Monday\, enjoy HALF OFF select bottles of bubbles from 4pm-9pm only on the patio! Featured selection:\n\nBrut Prosecco\, Veneto NV – 28Brut Rose\, Trentino 2016 – 28Pet Nat\, Abruzzo 2021 – 28Lambrusco\, Emilia Romagna NV – 28Moscato D’Asti\, Piemonte 2021 – 32\n\nMake your reservation HERE! P.S. Happy Hour is from 3-5pm (Mon-Fri) so come early to enjoy all of the great deals we’re offering!
URL:https://www.bonannoconcepts.com/event/bubbles-on-the-patio-june24-2/2024-07-15/
LOCATION:Osteria Marco\, 1453 Larimer St\, Denver\, CO\, 80202\, United States
CATEGORIES:Osteria Marco
ATTACH;FMTTYPE=image/png:https://www.bonannoconcepts.com/wp-content/uploads/2024/06/Monday-Bubbles-on-the-Patio-Osteria-Marco-Featured.png
END:VEVENT
BEGIN:VEVENT
DTSTART;TZID=America/Denver:20240717T160000
DTEND;TZID=America/Denver:20240717T160000
DTSTAMP:20260422T114059
CREATED:20240708T173216Z
LAST-MODIFIED:20240708T173557Z
UID:10005677-1721232000-1721232000@www.bonannoconcepts.com
SUMMARY:Annual Palisade Peach Dinner
DESCRIPTION:One of our favorite times of the year is here: Palisade Peach Season! This year\, our chefs have whipped up 5 delicious courses that highlight the sweet\, the juicy\, the chin-dripping goodness of this magical stone fruit…\n\nAntipasta: House Burrata\, Grilled Ciabatta\, Peach MostardaInsalata: Grilled Peaches\, Arugula\, Candied Walnuts\, Shaved Shallot\, PecorinoPasta: Rigatoni\, Tomato & Peach Sugo\, Guanciale\, Basil\, RicottaEntrée: Double Bone-In Pork Chop\, Caramelized Peaches\, Garlic Green Beans\, Calabrian Mint SugoDolce: Peach Panna Cotta\, Polenta Crumble\, Honey Thyme Sugo\, Fresh Peaches\n\nDon’t worry! We didn’t forget about the drinks. We’ll have plenty of peach cocktails available to elevate your peachy celebration!\nMake your reservation HERE!
URL:https://www.bonannoconcepts.com/event/palisade-peach-dinner/
LOCATION:Osteria Marco\, 1453 Larimer St\, Denver\, CO\, 80202\, United States
CATEGORIES:Osteria Marco
ATTACH;FMTTYPE=image/png:https://www.bonannoconcepts.com/wp-content/uploads/2024/07/July-17th-Peach-Dinner.png
END:VEVENT
BEGIN:VEVENT
DTSTART;TZID=America/Denver:20240722T160000
DTEND;TZID=America/Denver:20240722T210000
DTSTAMP:20260422T114059
CREATED:20240723T202451Z
LAST-MODIFIED:20241017T221411Z
UID:10006554-1721664000-1721682000@www.bonannoconcepts.com
SUMMARY:Bubbles on the Patio
DESCRIPTION:Every Monday\, enjoy HALF OFF select bottles of bubbles from 4pm-9pm only on the patio! Featured selection:\n\nBrut Prosecco\, Veneto NV – 28Brut Rose\, Trentino 2016 – 28Pet Nat\, Abruzzo 2021 – 28Lambrusco\, Emilia Romagna NV – 28Moscato D’Asti\, Piemonte 2021 – 32\n\nMake your reservation HERE! P.S. Happy Hour is from 3-5pm (Mon-Fri) so come early to enjoy all of the great deals we’re offering!
URL:https://www.bonannoconcepts.com/event/bubbles-on-the-patio-june24-2/2024-07-22/
LOCATION:Osteria Marco\, 1453 Larimer St\, Denver\, CO\, 80202\, United States
CATEGORIES:Osteria Marco
ATTACH;FMTTYPE=image/png:https://www.bonannoconcepts.com/wp-content/uploads/2024/06/Monday-Bubbles-on-the-Patio-Osteria-Marco-Featured.png
END:VEVENT
BEGIN:VEVENT
DTSTART;TZID=America/Denver:20240729T160000
DTEND;TZID=America/Denver:20240729T210000
DTSTAMP:20260422T114059
CREATED:20240723T202451Z
LAST-MODIFIED:20241017T221411Z
UID:10006555-1722268800-1722286800@www.bonannoconcepts.com
SUMMARY:Bubbles on the Patio
DESCRIPTION:Every Monday\, enjoy HALF OFF select bottles of bubbles from 4pm-9pm only on the patio! Featured selection:\n\nBrut Prosecco\, Veneto NV – 28Brut Rose\, Trentino 2016 – 28Pet Nat\, Abruzzo 2021 – 28Lambrusco\, Emilia Romagna NV – 28Moscato D’Asti\, Piemonte 2021 – 32\n\nMake your reservation HERE! P.S. Happy Hour is from 3-5pm (Mon-Fri) so come early to enjoy all of the great deals we’re offering!
URL:https://www.bonannoconcepts.com/event/bubbles-on-the-patio-june24-2/2024-07-29/
LOCATION:Osteria Marco\, 1453 Larimer St\, Denver\, CO\, 80202\, United States
CATEGORIES:Osteria Marco
ATTACH;FMTTYPE=image/png:https://www.bonannoconcepts.com/wp-content/uploads/2024/06/Monday-Bubbles-on-the-Patio-Osteria-Marco-Featured.png
END:VEVENT
END:VCALENDAR