BEGIN:VCALENDAR
VERSION:2.0
PRODID:-//Bonanno Concepts - ECPv6.15.20//NONSGML v1.0//EN
CALSCALE:GREGORIAN
METHOD:PUBLISH
X-ORIGINAL-URL:https://www.bonannoconcepts.com
X-WR-CALDESC:Events for Bonanno Concepts
REFRESH-INTERVAL;VALUE=DURATION:PT1H
X-Robots-Tag:noindex
X-PUBLISHED-TTL:PT1H
BEGIN:VTIMEZONE
TZID:America/Denver
BEGIN:DAYLIGHT
TZOFFSETFROM:-0700
TZOFFSETTO:-0600
TZNAME:MDT
DTSTART:20230312T090000
END:DAYLIGHT
BEGIN:STANDARD
TZOFFSETFROM:-0600
TZOFFSETTO:-0700
TZNAME:MST
DTSTART:20231105T080000
END:STANDARD
BEGIN:DAYLIGHT
TZOFFSETFROM:-0700
TZOFFSETTO:-0600
TZNAME:MDT
DTSTART:20240310T090000
END:DAYLIGHT
BEGIN:STANDARD
TZOFFSETFROM:-0600
TZOFFSETTO:-0700
TZNAME:MST
DTSTART:20241103T080000
END:STANDARD
BEGIN:DAYLIGHT
TZOFFSETFROM:-0700
TZOFFSETTO:-0600
TZNAME:MDT
DTSTART:20250309T090000
END:DAYLIGHT
BEGIN:STANDARD
TZOFFSETFROM:-0600
TZOFFSETTO:-0700
TZNAME:MST
DTSTART:20251102T080000
END:STANDARD
END:VTIMEZONE
BEGIN:VEVENT
DTSTART;TZID=America/Denver:20241024T170000
DTEND;TZID=America/Denver:20241024T190000
DTSTAMP:20260421T091949
CREATED:20240605T194134Z
LAST-MODIFIED:20241026T003948Z
UID:10006217-1729789200-1729796400@www.bonannoconcepts.com
SUMMARY:Grapes in the Greenhouse
DESCRIPTION:Mizuna’s magical greenhouse is abuzz every Thursday from 5-7pm! Join us for an evening filled with free-flowing wine and popcorn. Your ticket also includes three of Chef Michael’s daily seasonal snack creations\, so no two weeks are the same! We have 14 seats available each week\, so snag your ticket before we sell out HERE!
URL:https://www.bonannoconcepts.com/event/grapes-in-the-greenhouse-july25/2024-10-24/
LOCATION:Mizuna\, 225 East 7th Avenue\, Denver\, CO\, 80203\, United States
CATEGORIES:Mizuna
ATTACH;FMTTYPE=image/png:https://www.bonannoconcepts.com/wp-content/uploads/2024/05/Grapes-in-the-Greenhouse-at-Mizuna.png
END:VEVENT
BEGIN:VEVENT
DTSTART;TZID=America/Denver:20241024T170000
DTEND;TZID=America/Denver:20241024T210000
DTSTAMP:20260421T091949
CREATED:20240220T171717Z
LAST-MODIFIED:20240723T201234Z
UID:10000470-1729789200-1729803600@www.bonannoconcepts.com
SUMMARY:Pizza Thursday
DESCRIPTION:All of our hand tossed\, wood-fired pies are 2 bucks off from open ‘til close!
URL:https://www.bonannoconcepts.com/event/pizza-thursday-9/2024-10-24/
LOCATION:Luca\, 711 Grant Street\, Denver\, CO\, 80203\, United States
CATEGORIES:Luca
ATTACH;FMTTYPE=image/jpeg:https://www.bonannoconcepts.com/wp-content/uploads/2023/07/Elfsight-Calendar-Images-24-.jpg
END:VEVENT
BEGIN:VEVENT
DTSTART;TZID=America/Denver:20241025T160000
DTEND;TZID=America/Denver:20241026T000000
DTSTAMP:20260421T091949
CREATED:20241026T003804Z
LAST-MODIFIED:20241026T003804Z
UID:10007131-1729872000-1729900800@www.bonannoconcepts.com
SUMMARY:Salita Spooktacular
DESCRIPTION:Happy Halloween! To celebrate\, Salita is hosting a Spooktacular Giveaway. You could win TWO tickets to our next cocktail class on November 9th! The rules:1. Come to Salita in your best halloween costume2. Order one of our spooky cocktail specials3. Fill out a raffle ticket (1 cocktail = 1 ticket)\nWinner will be contacted Friday\, Nov 1st!\n\nOur next cocktail class is a Tour of the Tropics on Saturday November 9th from 12-2pm. Details HERE!
URL:https://www.bonannoconcepts.com/event/salita-spooktacular/2024-10-25/
LOCATION:Salita\, 701 N Grant St\, Denver\, CO\, 80203\, United States
ATTACH;FMTTYPE=image/png:https://www.bonannoconcepts.com/wp-content/uploads/2024/10/Calendar-Featured-Image-4.png
END:VEVENT
BEGIN:VEVENT
DTSTART;TZID=America/Denver:20241026T160000
DTEND;TZID=America/Denver:20241027T000000
DTSTAMP:20260421T091949
CREATED:20241026T003804Z
LAST-MODIFIED:20241026T003804Z
UID:10007132-1729958400-1729987200@www.bonannoconcepts.com
SUMMARY:Salita Spooktacular
DESCRIPTION:Happy Halloween! To celebrate\, Salita is hosting a Spooktacular Giveaway. You could win TWO tickets to our next cocktail class on November 9th! The rules:1. Come to Salita in your best halloween costume2. Order one of our spooky cocktail specials3. Fill out a raffle ticket (1 cocktail = 1 ticket)\nWinner will be contacted Friday\, Nov 1st!\n\nOur next cocktail class is a Tour of the Tropics on Saturday November 9th from 12-2pm. Details HERE!
URL:https://www.bonannoconcepts.com/event/salita-spooktacular/2024-10-26/
LOCATION:Salita\, 701 N Grant St\, Denver\, CO\, 80203\, United States
ATTACH;FMTTYPE=image/png:https://www.bonannoconcepts.com/wp-content/uploads/2024/10/Calendar-Featured-Image-4.png
END:VEVENT
BEGIN:VEVENT
DTSTART;TZID=America/Denver:20241027T160000
DTEND;TZID=America/Denver:20241027T230000
DTSTAMP:20260421T091949
CREATED:20241026T003804Z
LAST-MODIFIED:20241026T003804Z
UID:10007133-1730044800-1730070000@www.bonannoconcepts.com
SUMMARY:Salita Spooktacular
DESCRIPTION:Happy Halloween! To celebrate\, Salita is hosting a Spooktacular Giveaway. You could win TWO tickets to our next cocktail class on November 9th! The rules:1. Come to Salita in your best halloween costume2. Order one of our spooky cocktail specials3. Fill out a raffle ticket (1 cocktail = 1 ticket)\nWinner will be contacted Friday\, Nov 1st!\n\nOur next cocktail class is a Tour of the Tropics on Saturday November 9th from 12-2pm. Details HERE!
URL:https://www.bonannoconcepts.com/event/salita-spooktacular/2024-10-27/
LOCATION:Salita\, 701 N Grant St\, Denver\, CO\, 80203\, United States
ATTACH;FMTTYPE=image/png:https://www.bonannoconcepts.com/wp-content/uploads/2024/10/Calendar-Featured-Image-4.png
END:VEVENT
BEGIN:VEVENT
DTSTART;TZID=America/Denver:20241028T160000
DTEND;TZID=America/Denver:20241028T210000
DTSTAMP:20260421T091949
CREATED:20240723T202451Z
LAST-MODIFIED:20241017T221411Z
UID:10006568-1730131200-1730149200@www.bonannoconcepts.com
SUMMARY:Bubbles on the Patio
DESCRIPTION:Every Monday\, enjoy HALF OFF select bottles of bubbles from 4pm-9pm only on the patio! Featured selection:\n\nBrut Prosecco\, Veneto NV – 28Brut Rose\, Trentino 2016 – 28Pet Nat\, Abruzzo 2021 – 28Lambrusco\, Emilia Romagna NV – 28Moscato D’Asti\, Piemonte 2021 – 32\n\nMake your reservation HERE! P.S. Happy Hour is from 3-5pm (Mon-Fri) so come early to enjoy all of the great deals we’re offering!
URL:https://www.bonannoconcepts.com/event/bubbles-on-the-patio-june24-2/2024-10-28/
LOCATION:Osteria Marco\, 1453 Larimer St\, Denver\, CO\, 80202\, United States
CATEGORIES:Osteria Marco
ATTACH;FMTTYPE=image/png:https://www.bonannoconcepts.com/wp-content/uploads/2024/06/Monday-Bubbles-on-the-Patio-Osteria-Marco-Featured.png
END:VEVENT
BEGIN:VEVENT
DTSTART;TZID=America/Denver:20241028T160000
DTEND;TZID=America/Denver:20241028T230000
DTSTAMP:20260421T091949
CREATED:20241026T003804Z
LAST-MODIFIED:20241026T003804Z
UID:10007134-1730131200-1730156400@www.bonannoconcepts.com
SUMMARY:Salita Spooktacular
DESCRIPTION:Happy Halloween! To celebrate\, Salita is hosting a Spooktacular Giveaway. You could win TWO tickets to our next cocktail class on November 9th! The rules:1. Come to Salita in your best halloween costume2. Order one of our spooky cocktail specials3. Fill out a raffle ticket (1 cocktail = 1 ticket)\nWinner will be contacted Friday\, Nov 1st!\n\nOur next cocktail class is a Tour of the Tropics on Saturday November 9th from 12-2pm. Details HERE!
URL:https://www.bonannoconcepts.com/event/salita-spooktacular/2024-10-28/
LOCATION:Salita\, 701 N Grant St\, Denver\, CO\, 80203\, United States
ATTACH;FMTTYPE=image/png:https://www.bonannoconcepts.com/wp-content/uploads/2024/10/Calendar-Featured-Image-4.png
END:VEVENT
BEGIN:VEVENT
DTSTART;TZID=America/Denver:20241029T160000
DTEND;TZID=America/Denver:20241029T230000
DTSTAMP:20260421T091949
CREATED:20241026T003804Z
LAST-MODIFIED:20241026T003804Z
UID:10007135-1730217600-1730242800@www.bonannoconcepts.com
SUMMARY:Salita Spooktacular
DESCRIPTION:Happy Halloween! To celebrate\, Salita is hosting a Spooktacular Giveaway. You could win TWO tickets to our next cocktail class on November 9th! The rules:1. Come to Salita in your best halloween costume2. Order one of our spooky cocktail specials3. Fill out a raffle ticket (1 cocktail = 1 ticket)\nWinner will be contacted Friday\, Nov 1st!\n\nOur next cocktail class is a Tour of the Tropics on Saturday November 9th from 12-2pm. Details HERE!
URL:https://www.bonannoconcepts.com/event/salita-spooktacular/2024-10-29/
LOCATION:Salita\, 701 N Grant St\, Denver\, CO\, 80203\, United States
ATTACH;FMTTYPE=image/png:https://www.bonannoconcepts.com/wp-content/uploads/2024/10/Calendar-Featured-Image-4.png
END:VEVENT
BEGIN:VEVENT
DTSTART;TZID=America/Denver:20241030T160000
DTEND;TZID=America/Denver:20241030T230000
DTSTAMP:20260421T091949
CREATED:20241026T003804Z
LAST-MODIFIED:20241026T003804Z
UID:10007136-1730304000-1730329200@www.bonannoconcepts.com
SUMMARY:Salita Spooktacular
DESCRIPTION:Happy Halloween! To celebrate\, Salita is hosting a Spooktacular Giveaway. You could win TWO tickets to our next cocktail class on November 9th! The rules:1. Come to Salita in your best halloween costume2. Order one of our spooky cocktail specials3. Fill out a raffle ticket (1 cocktail = 1 ticket)\nWinner will be contacted Friday\, Nov 1st!\n\nOur next cocktail class is a Tour of the Tropics on Saturday November 9th from 12-2pm. Details HERE!
URL:https://www.bonannoconcepts.com/event/salita-spooktacular/2024-10-30/
LOCATION:Salita\, 701 N Grant St\, Denver\, CO\, 80203\, United States
ATTACH;FMTTYPE=image/png:https://www.bonannoconcepts.com/wp-content/uploads/2024/10/Calendar-Featured-Image-4.png
END:VEVENT
BEGIN:VEVENT
DTSTART;TZID=America/Denver:20241031T160000
DTEND;TZID=America/Denver:20241031T230000
DTSTAMP:20260421T091949
CREATED:20241026T003804Z
LAST-MODIFIED:20241026T003804Z
UID:10007137-1730390400-1730415600@www.bonannoconcepts.com
SUMMARY:Salita Spooktacular
DESCRIPTION:Happy Halloween! To celebrate\, Salita is hosting a Spooktacular Giveaway. You could win TWO tickets to our next cocktail class on November 9th! The rules:1. Come to Salita in your best halloween costume2. Order one of our spooky cocktail specials3. Fill out a raffle ticket (1 cocktail = 1 ticket)\nWinner will be contacted Friday\, Nov 1st!\n\nOur next cocktail class is a Tour of the Tropics on Saturday November 9th from 12-2pm. Details HERE!
URL:https://www.bonannoconcepts.com/event/salita-spooktacular/2024-10-31/
LOCATION:Salita\, 701 N Grant St\, Denver\, CO\, 80203\, United States
ATTACH;FMTTYPE=image/png:https://www.bonannoconcepts.com/wp-content/uploads/2024/10/Calendar-Featured-Image-4.png
END:VEVENT
BEGIN:VEVENT
DTSTART;TZID=America/Denver:20241031T170000
DTEND;TZID=America/Denver:20241031T190000
DTSTAMP:20260421T091949
CREATED:20240605T194134Z
LAST-MODIFIED:20241026T003948Z
UID:10006218-1730394000-1730401200@www.bonannoconcepts.com
SUMMARY:Grapes in the Greenhouse
DESCRIPTION:Mizuna’s magical greenhouse is abuzz every Thursday from 5-7pm! Join us for an evening filled with free-flowing wine and popcorn. Your ticket also includes three of Chef Michael’s daily seasonal snack creations\, so no two weeks are the same! We have 14 seats available each week\, so snag your ticket before we sell out HERE!
URL:https://www.bonannoconcepts.com/event/grapes-in-the-greenhouse-july25/2024-10-31/
LOCATION:Mizuna\, 225 East 7th Avenue\, Denver\, CO\, 80203\, United States
CATEGORIES:Mizuna
ATTACH;FMTTYPE=image/png:https://www.bonannoconcepts.com/wp-content/uploads/2024/05/Grapes-in-the-Greenhouse-at-Mizuna.png
END:VEVENT
BEGIN:VEVENT
DTSTART;TZID=America/Denver:20241031T170000
DTEND;TZID=America/Denver:20241031T210000
DTSTAMP:20260421T091949
CREATED:20240220T171717Z
LAST-MODIFIED:20240723T201234Z
UID:10000471-1730394000-1730408400@www.bonannoconcepts.com
SUMMARY:Pizza Thursday
DESCRIPTION:All of our hand tossed\, wood-fired pies are 2 bucks off from open ‘til close!
URL:https://www.bonannoconcepts.com/event/pizza-thursday-9/2024-10-31/
LOCATION:Luca\, 711 Grant Street\, Denver\, CO\, 80203\, United States
CATEGORIES:Luca
ATTACH;FMTTYPE=image/jpeg:https://www.bonannoconcepts.com/wp-content/uploads/2023/07/Elfsight-Calendar-Images-24-.jpg
END:VEVENT
BEGIN:VEVENT
DTSTART;TZID=America/Denver:20241107T170000
DTEND;TZID=America/Denver:20241107T210000
DTSTAMP:20260421T091949
CREATED:20240220T171717Z
LAST-MODIFIED:20240723T201234Z
UID:10000472-1730998800-1731013200@www.bonannoconcepts.com
SUMMARY:Pizza Thursday
DESCRIPTION:All of our hand tossed\, wood-fired pies are 2 bucks off from open ‘til close!
URL:https://www.bonannoconcepts.com/event/pizza-thursday-9/2024-11-07/
LOCATION:Luca\, 711 Grant Street\, Denver\, CO\, 80203\, United States
CATEGORIES:Luca
ATTACH;FMTTYPE=image/jpeg:https://www.bonannoconcepts.com/wp-content/uploads/2023/07/Elfsight-Calendar-Images-24-.jpg
END:VEVENT
BEGIN:VEVENT
DTSTART;TZID=America/Denver:20241109T120000
DTEND;TZID=America/Denver:20241109T140000
DTSTAMP:20260421T091949
CREATED:20240715T235334Z
LAST-MODIFIED:20240715T235447Z
UID:10005681-1731153600-1731160800@www.bonannoconcepts.com
SUMMARY:Cocktail Chronicles: A Tour of the Tropics
DESCRIPTION:As we yearn for summer\, we’re celebrating island ingredients\, vibrant flavors\, and a fresh approach to tropical cocktails. Learn to make some seriously summery sippers…some of them might even be on fire! Your ticket includes complimentary snacks and handcrafted bitters and/or syrups to enhance your home bar!\n\nWe have 10 seats available per class\, so grab yours HERE
URL:https://www.bonannoconcepts.com/event/cocktail-chronicles-a-tour-of-the-tropics/
LOCATION:Salita\, 701 N Grant St\, Denver\, CO\, 80203\, United States
CATEGORIES:Salita
ATTACH;FMTTYPE=image/png:https://www.bonannoconcepts.com/wp-content/uploads/2024/07/November-9th-Tropics-Featured.png
END:VEVENT
BEGIN:VEVENT
DTSTART;TZID=America/Denver:20241114T170000
DTEND;TZID=America/Denver:20241114T210000
DTSTAMP:20260421T091949
CREATED:20240220T171717Z
LAST-MODIFIED:20240723T201234Z
UID:10000473-1731603600-1731618000@www.bonannoconcepts.com
SUMMARY:Pizza Thursday
DESCRIPTION:All of our hand tossed\, wood-fired pies are 2 bucks off from open ‘til close!
URL:https://www.bonannoconcepts.com/event/pizza-thursday-9/2024-11-14/
LOCATION:Luca\, 711 Grant Street\, Denver\, CO\, 80203\, United States
CATEGORIES:Luca
ATTACH;FMTTYPE=image/jpeg:https://www.bonannoconcepts.com/wp-content/uploads/2023/07/Elfsight-Calendar-Images-24-.jpg
END:VEVENT
BEGIN:VEVENT
DTSTART;TZID=America/Denver:20241114T183000
DTEND;TZID=America/Denver:20241114T183000
DTSTAMP:20260421T091949
CREATED:20241105T024241Z
LAST-MODIFIED:20241105T024251Z
UID:10010269-1731609000-1731609000@www.bonannoconcepts.com
SUMMARY:Mizuna's Annual Truffle Dinner
DESCRIPTION:Get ready for an unforgettable evening at Mizuna’s Annual Black & White Truffle Dinner on November 14th — primed to sell out for another year in a row! Indulge in ten-courses\, each featuring rare Alba White and Burgundy Black Truffles. \n  \nBut the decadence doesn’t stop there. This year’s menu includes the finest Osetra Caviar\, Velvety Hudson Valley Foie Gras\, and Chef Michael’s innovative take on our classic Beef Wellington—an inspired twist on tradition that you won’t want to miss. Our chef’s will guide you through the evening\, explaining their process and flavors of each dish! \n  \nIf you fancy yourself a truffle enthusiast\, you simply have to be here. We can’t wait to delight you! Reserve your table HERE.
URL:https://www.bonannoconcepts.com/event/annual-truffle-dinner/
LOCATION:Mizuna\, 225 East 7th Avenue\, Denver\, CO\, 80203\, United States
CATEGORIES:Mizuna
ATTACH;FMTTYPE=image/png:https://www.bonannoconcepts.com/wp-content/uploads/2024/11/Mizuna-Truffle-Dinner-2024-Featured.png
END:VEVENT
BEGIN:VEVENT
DTSTART;TZID=America/Denver:20241121T170000
DTEND;TZID=America/Denver:20241121T210000
DTSTAMP:20260421T091949
CREATED:20240220T171717Z
LAST-MODIFIED:20240723T201234Z
UID:10000474-1732208400-1732222800@www.bonannoconcepts.com
SUMMARY:Pizza Thursday
DESCRIPTION:All of our hand tossed\, wood-fired pies are 2 bucks off from open ‘til close!
URL:https://www.bonannoconcepts.com/event/pizza-thursday-9/2024-11-21/
LOCATION:Luca\, 711 Grant Street\, Denver\, CO\, 80203\, United States
CATEGORIES:Luca
ATTACH;FMTTYPE=image/jpeg:https://www.bonannoconcepts.com/wp-content/uploads/2023/07/Elfsight-Calendar-Images-24-.jpg
END:VEVENT
BEGIN:VEVENT
DTSTART;VALUE=DATE:20241127
DTEND;VALUE=DATE:20241128
DTSTAMP:20260421T091949
CREATED:20241030T045819Z
LAST-MODIFIED:20241105T024731Z
UID:10007139-1732665600-1732751999@www.bonannoconcepts.com
SUMMARY:Thanksgiving To Go 2024
DESCRIPTION:Bring home the flavor this Thanksgiving with our Thanksgiving To-Go packages from Mizuna\, Luca\, or Osteria Marco. Whatever your style\, we’ve got a spread to keep things easy and (almost) dish-free. Each meal comes with simple finishing instructions\, so you can enjoy on your schedule! Pickup for all meals is on Wednesday\, November 27th at the time of your choice. Meals are designed for two\, but can be made to order individually/per person!\n\n\nCheck out our menus to pick your perfect Turkey Day HERE!
URL:https://www.bonannoconcepts.com/event/thanksgiving-2024/
LOCATION:Bonanno Concepts
CATEGORIES:Bonanno Concepts,Luca,Mizuna,Osteria Marco
ATTACH;FMTTYPE=image/png:https://www.bonannoconcepts.com/wp-content/uploads/2024/10/Nov-27th-Thanksgiving-To-Go-2024-Featured.png
END:VEVENT
BEGIN:VEVENT
DTSTART;VALUE=DATE:20241128
DTEND;VALUE=DATE:20241129
DTSTAMP:20260421T091949
CREATED:20241030T055645Z
LAST-MODIFIED:20241115T022321Z
UID:10010268-1732752000-1732838399@www.bonannoconcepts.com
SUMMARY:All Concepts Closed
DESCRIPTION:All of our concepts will be closed for Thanksgiving. Stay warm and have a happy holidays!
URL:https://www.bonannoconcepts.com/event/all-concepts-closed-6/
LOCATION:Bonanno Concepts
CATEGORIES:Bonanno Concepts
ATTACH;FMTTYPE=image/png:https://www.bonannoconcepts.com/wp-content/uploads/2024/10/Happy-Holidays-1.png
END:VEVENT
BEGIN:VEVENT
DTSTART;TZID=America/Denver:20241205T170000
DTEND;TZID=America/Denver:20241205T210000
DTSTAMP:20260421T091949
CREATED:20240220T171717Z
LAST-MODIFIED:20240723T201234Z
UID:10000476-1733418000-1733432400@www.bonannoconcepts.com
SUMMARY:Pizza Thursday
DESCRIPTION:All of our hand tossed\, wood-fired pies are 2 bucks off from open ‘til close!
URL:https://www.bonannoconcepts.com/event/pizza-thursday-9/2024-12-05/
LOCATION:Luca\, 711 Grant Street\, Denver\, CO\, 80203\, United States
CATEGORIES:Luca
ATTACH;FMTTYPE=image/jpeg:https://www.bonannoconcepts.com/wp-content/uploads/2023/07/Elfsight-Calendar-Images-24-.jpg
END:VEVENT
BEGIN:VEVENT
DTSTART;TZID=America/Denver:20241210T170000
DTEND;TZID=America/Denver:20241210T210000
DTSTAMP:20260421T091949
CREATED:20241210T012707Z
LAST-MODIFIED:20241210T025932Z
UID:10010594-1733850000-1733864400@www.bonannoconcepts.com
SUMMARY:Tasty Tuesdays
DESCRIPTION:Kick off your week and satisfy your pizz-adiction every Tuesday at Tasty Tuesdays! Enjoy our 12 dollar pizza of the day or get 2 dollars off any of our signature pizzas from 5pm to close. Make a reservation with us HERE!
URL:https://www.bonannoconcepts.com/event/tasty-tuesdays/2024-12-10/
LOCATION:Luca\, 711 Grant Street\, Denver\, CO\, 80203\, United States
CATEGORIES:Luca
ATTACH;FMTTYPE=image/png:https://www.bonannoconcepts.com/wp-content/uploads/2024/12/Tasty-Tuesdays-Featured.png
END:VEVENT
BEGIN:VEVENT
DTSTART;TZID=America/Denver:20241211T190000
DTEND;TZID=America/Denver:20241211T190000
DTSTAMP:20260421T091949
CREATED:20241202T215428Z
LAST-MODIFIED:20241202T231800Z
UID:10010590-1733943600-1733943600@www.bonannoconcepts.com
SUMMARY:Pitch-A-Friend at Vesper Lounge
DESCRIPTION:We’re thrilled to host the FIRST EVER Pitch-A-Friend event in the Mile High City! Join us for a fun and unique night where friends pitch their amazing single friends in short\, light-hearted presentations. It’s FREE to attend\, so you can come watch pitches\, mingle with other fantastic Denver singles\, and enjoy the vibes. \n‎ ‎💌 Want to pitch someone awesome? Sign up ahead of time using this link. Spots are limited\, so don’t wait!\nWe can’t wait to meet all the amazing singles and their super supportive friends in Denver. Let’s make it a night to remember!
URL:https://www.bonannoconcepts.com/event/pitch-a-friend-at-vesper-lounge/
LOCATION:Vesper Lounge\, 233 East 7th Avenue\, Denver\, CO\, 80203\, United States
CATEGORIES:Vesper Lounge
ATTACH;FMTTYPE=image/png:https://www.bonannoconcepts.com/wp-content/uploads/2024/12/Pitch-A-Friend-Featured.png
END:VEVENT
BEGIN:VEVENT
DTSTART;TZID=America/Denver:20241212T170000
DTEND;TZID=America/Denver:20241212T210000
DTSTAMP:20260421T091949
CREATED:20240220T171717Z
LAST-MODIFIED:20240723T201234Z
UID:10000477-1734022800-1734037200@www.bonannoconcepts.com
SUMMARY:Pizza Thursday
DESCRIPTION:All of our hand tossed\, wood-fired pies are 2 bucks off from open ‘til close!
URL:https://www.bonannoconcepts.com/event/pizza-thursday-9/2024-12-12/
LOCATION:Luca\, 711 Grant Street\, Denver\, CO\, 80203\, United States
CATEGORIES:Luca
ATTACH;FMTTYPE=image/jpeg:https://www.bonannoconcepts.com/wp-content/uploads/2023/07/Elfsight-Calendar-Images-24-.jpg
END:VEVENT
BEGIN:VEVENT
DTSTART;TZID=America/Denver:20241217T170000
DTEND;TZID=America/Denver:20241217T210000
DTSTAMP:20260421T091949
CREATED:20241210T012707Z
LAST-MODIFIED:20241210T025932Z
UID:10010595-1734454800-1734469200@www.bonannoconcepts.com
SUMMARY:Tasty Tuesdays
DESCRIPTION:Kick off your week and satisfy your pizz-adiction every Tuesday at Tasty Tuesdays! Enjoy our 12 dollar pizza of the day or get 2 dollars off any of our signature pizzas from 5pm to close. Make a reservation with us HERE!
URL:https://www.bonannoconcepts.com/event/tasty-tuesdays/2024-12-17/
LOCATION:Luca\, 711 Grant Street\, Denver\, CO\, 80203\, United States
CATEGORIES:Luca
ATTACH;FMTTYPE=image/png:https://www.bonannoconcepts.com/wp-content/uploads/2024/12/Tasty-Tuesdays-Featured.png
END:VEVENT
BEGIN:VEVENT
DTSTART;TZID=America/Denver:20241219T170000
DTEND;TZID=America/Denver:20241219T210000
DTSTAMP:20260421T091949
CREATED:20240220T171717Z
LAST-MODIFIED:20240723T201234Z
UID:10000478-1734627600-1734642000@www.bonannoconcepts.com
SUMMARY:Pizza Thursday
DESCRIPTION:All of our hand tossed\, wood-fired pies are 2 bucks off from open ‘til close!
URL:https://www.bonannoconcepts.com/event/pizza-thursday-9/2024-12-19/
LOCATION:Luca\, 711 Grant Street\, Denver\, CO\, 80203\, United States
CATEGORIES:Luca
ATTACH;FMTTYPE=image/jpeg:https://www.bonannoconcepts.com/wp-content/uploads/2023/07/Elfsight-Calendar-Images-24-.jpg
END:VEVENT
BEGIN:VEVENT
DTSTART;TZID=America/Denver:20241221T140000
DTEND;TZID=America/Denver:20241221T140000
DTSTAMP:20260421T091949
CREATED:20241111T210157Z
LAST-MODIFIED:20241115T013502Z
UID:10010271-1734789600-1734789600@www.bonannoconcepts.com
SUMMARY:The Local Legends Holiday Bundle
DESCRIPTION:The Local Legends Bundle is here for the real Vesper fans—the ones who know every corner booth and will hang out on the patio even when it’s blizzarding. This bundle has everything a true lounger needs: a cozy\, Vesper Lounge zip-up hoodie and two signature solo cups that unlock $4 drafts every Wednesday as part of our exclusive Solo Cup Club! Whether you’re gifting it to your favorite regular or keeping it all to yourself (we don’t blame you!)\, this set brings a little piece of Vesper magic to your everyday. Cheers to being a local legend! 🍺 \n  \nPickup will be available starting Saturday\, December 21st anytime after 2pm. One ticket purchases one bundle. If you need to pickup your bundle prior to December 21st\, please email marketing@mizunadenver.com! \nLimited hoodie sizing available: S\, M\, L\, XL (sold out)
URL:https://www.bonannoconcepts.com/event/the-local-legends-holiday-bundle/
LOCATION:Vesper Lounge\, 233 East 7th Avenue\, Denver\, CO\, 80203\, United States
CATEGORIES:Vesper Lounge
ATTACH;FMTTYPE=image/png:https://www.bonannoconcepts.com/wp-content/uploads/2024/11/Local-Legends-Placeholder.png
END:VEVENT
BEGIN:VEVENT
DTSTART;VALUE=DATE:20241223
DTEND;VALUE=DATE:20241224
DTSTAMP:20260421T091949
CREATED:20241202T221122Z
LAST-MODIFIED:20241202T221415Z
UID:10010591-1734912000-1734998399@www.bonannoconcepts.com
SUMMARY:Christmas To-Go 2024
DESCRIPTION:Bring home the flavor this Christmas with our Christmas To-Go packages from Mizuna\, Luca\, or Osteria Marco. Whatever your style\, we’ve got a spread to keep things easy and (almost) dish-free. Each meal comes with simple finishing instructions\, so you can enjoy on your schedule! Pickup for all meals is on Monday\, December 23rd at the time of your choice. Meals are designed for two\, but can be made to order individually/per person!\n‎ ‎\nCheck out our menus to pick your perfect Christmas Dinner HERE!\n‎ ‎\nPsst…If you’re reading this\, yes–our annual Drive-Thru Holiday Pie Pop Up will take place at Luca on Monday\, Dec 23rd from 9AM till we sell out. We’ll have three delicious pie flavors\, our famous cinnamon rolls\, bottled cocktails\, and more!
URL:https://www.bonannoconcepts.com/event/christmas-to-go-2024/
LOCATION:Bonanno Concepts
CATEGORIES:Bonanno Concepts,Luca,Mizuna,Osteria Marco
ATTACH;FMTTYPE=image/png:https://www.bonannoconcepts.com/wp-content/uploads/2024/12/xmas-to-go-featured.png
END:VEVENT
BEGIN:VEVENT
DTSTART;VALUE=DATE:20241224
DTEND;VALUE=DATE:20241226
DTSTAMP:20260421T091949
CREATED:20241030T055501Z
LAST-MODIFIED:20241115T022026Z
UID:10010267-1734998400-1735171199@www.bonannoconcepts.com
SUMMARY:All Concepts Closed
DESCRIPTION:All of our concepts will be closed for Christmas Eve (24th) and Christmas Day (25th). Stay warm and have a happy holidays!
URL:https://www.bonannoconcepts.com/event/all-concepts-closed-5/
LOCATION:Bonanno Concepts
CATEGORIES:Bonanno Concepts
ATTACH;FMTTYPE=image/png:https://www.bonannoconcepts.com/wp-content/uploads/2024/10/Happy-Holidays-1.png
END:VEVENT
BEGIN:VEVENT
DTSTART;TZID=America/Denver:20241226T235900
DTEND;TZID=America/Denver:20241226T235900
DTSTAMP:20260421T091949
CREATED:20241030T043412Z
LAST-MODIFIED:20241230T173619Z
UID:10007138-1735257540-1735257540@www.bonannoconcepts.com
SUMMARY:Cocktail Chronicles: Beginner's Mixology Class Package
DESCRIPTION:Give the gift of cocktails this holiday season! Our Cocktail Chronicles: Beginner’s Mixology Class Package is the perfect introduction to the art of cocktail crafting\, with three foundational classes designed to build confidence\, knowledge\, and skill. For just $200\, students will dive into the essentials of mixology in a fun\, relaxed setting. \n  \nEach session includes hands-on guidance from our expert bartenders\, light snacks\, a recipe book\, and you’ll take home one of our scratch-made bitters or syrups to kickstart your own home bar! Here’s a peek at what each class offers: \n  \nClass One: Building Your Home Bar | Sunday\, January 12th | 12-2pm\nFrom Shaker to Spirits: Setting Up the Essentials\nTo kickoff this series\, you’ll learn the basics of building a home bar. From selecting essential tools to understanding base spirits and mixers\, you’ll leave with the skills and knowledge you need to start mixing like a pro. \nPerfect for beginners who want a strong foundation\, this class covers all the must-haves for a well-stocked bar. \n  \nClass Two: Balance | Sunday\, February 2nd | 12-2pm\nFinding the Perfect Blend of Flavor\nThe secret to a memorable cocktail is balance—between sweet\, sour\, bitter\, and spirit. This class will dive into the science and art of balancing flavors\, teaching you to craft cocktails that are neither too strong nor too sweet. \nExpect to experiment with fresh ingredients and classic ratios for a perfectly tailored drink. \n  \nClass Three: Shaken or Stirred? | Sunday\, March 9th | 12-2pm\nMastering Techniques for a Smooth Sip\nThe final class of this series explores the techniques for shaken and stirred cocktails. You’ll learn when to shake versus stir\, why it matters\, and how each technique influences the final drink. They’ll leave with newfound confidence in crafting cocktails with smooth textures and flavors that impress. \n  \nAll classes will be held at Salita\, which will be closed to the public during this time for an intimate\, cozy experience without interruptions! \nOffer available until December 26th at 11:59 PM. Limited seating—tickets will sell fast! Attendees must be 21+. \n  \nIf you are experiencing any problems with completing your purchase\, please reach out to marketing@mizunadenver.com
URL:https://www.bonannoconcepts.com/event/cocktail-chronicles-class-package/
LOCATION:Salita\, 701 N Grant St\, Denver\, CO\, 80203\, United States
CATEGORIES:Salita
ATTACH;FMTTYPE=image/png:https://www.bonannoconcepts.com/wp-content/uploads/2024/10/Calendar-Featured-Image-5.png
END:VEVENT
BEGIN:VEVENT
DTSTART;TZID=America/Denver:20241229T140000
DTEND;TZID=America/Denver:20241229T140000
DTSTAMP:20260421T091949
CREATED:20241115T060643Z
LAST-MODIFIED:20241115T060643Z
UID:10010287-1735480800-1735480800@www.bonannoconcepts.com
SUMMARY:Jammie Jam at Vesper Lounge
DESCRIPTION:Our annual Jammie Jam is back! Come in your best PJ’s and get all day happy hour prices from open till close. See you here!
URL:https://www.bonannoconcepts.com/event/jammie-jam/
LOCATION:Vesper Lounge\, 233 East 7th Avenue\, Denver\, CO\, 80203\, United States
CATEGORIES:Vesper Lounge
ATTACH;FMTTYPE=image/png:https://www.bonannoconcepts.com/wp-content/uploads/2024/11/Calendar-Featured-Image-6.png
END:VEVENT
END:VCALENDAR